BEGIN:VCALENDAR
VERSION:2.0
PRODID:-//West Silvertown Foundation - ECPv6.15.20//NONSGML v1.0//EN
CALSCALE:GREGORIAN
METHOD:PUBLISH
X-WR-CALNAME:West Silvertown Foundation
X-ORIGINAL-URL:https://wsfroyaldocks.org
X-WR-CALDESC:Events for West Silvertown Foundation
REFRESH-INTERVAL;VALUE=DURATION:PT1H
X-Robots-Tag:noindex
X-PUBLISHED-TTL:PT1H
BEGIN:VTIMEZONE
TZID:Europe/London
BEGIN:DAYLIGHT
TZOFFSETFROM:+0000
TZOFFSETTO:+0100
TZNAME:BST
DTSTART:20250330T010000
END:DAYLIGHT
BEGIN:STANDARD
TZOFFSETFROM:+0100
TZOFFSETTO:+0000
TZNAME:GMT
DTSTART:20251026T010000
END:STANDARD
BEGIN:DAYLIGHT
TZOFFSETFROM:+0000
TZOFFSETTO:+0100
TZNAME:BST
DTSTART:20260329T010000
END:DAYLIGHT
BEGIN:STANDARD
TZOFFSETFROM:+0100
TZOFFSETTO:+0000
TZNAME:GMT
DTSTART:20261025T010000
END:STANDARD
BEGIN:DAYLIGHT
TZOFFSETFROM:+0000
TZOFFSETTO:+0100
TZNAME:BST
DTSTART:20270328T010000
END:DAYLIGHT
BEGIN:STANDARD
TZOFFSETFROM:+0100
TZOFFSETTO:+0000
TZNAME:GMT
DTSTART:20271031T010000
END:STANDARD
END:VTIMEZONE
BEGIN:VEVENT
DTSTART;TZID=Europe/London:20260608T153000
DTEND;TZID=Europe/London:20260608T180000
DTSTAMP:20260425T165855
CREATED:20260401T175039Z
LAST-MODIFIED:20260402T124654Z
UID:10047834-1780932600-1780941600@wsfroyaldocks.org
SUMMARY:Vibrant Minds After School Club
DESCRIPTION:Vibrant Minds offers an OFSTED registered\, safe and stimulating environment where children aged 5-11 years old can play\, have fun and learn while being cared for by qualified and experienced staff. \nVibrant Minds After School Club Autumn 2025 for emailing
URL:https://wsfroyaldocks.org/event/vibrant-minds-after-school-club/2026-06-08/
LOCATION:Britannia Village Hall\, 65 Evelyn Street\, London\, E16 1TU\, United Kingdom
CATEGORIES:Britannia Village,Children & Families,Primary
GEO:51.50419526944103;51.50419526944103, 0.025734008599947032
X-APPLE-STRUCTURED-LOCATION;VALUE=URI;X-ADDRESS=Britannia Village Hall 65 Evelyn Street London E16 1TU United Kingdom;X-APPLE-RADIUS=500;X-TITLE=65 Evelyn Street:geo:51.50419526944103, 0.025734008599947032,51.50419526944103
END:VEVENT
BEGIN:VEVENT
DTSTART;TZID=Europe/London:20260608T160000
DTEND;TZID=Europe/London:20260608T180000
DTSTAMP:20260425T165855
CREATED:20260109T202044Z
LAST-MODIFIED:20260401T190329Z
UID:10048096-1780934400-1780941600@wsfroyaldocks.org
SUMMARY:Lithuanian classes for kids
DESCRIPTION:
URL:https://wsfroyaldocks.org/event/lithuanian-classes-for-kids-2-2/2026-06-08/
LOCATION:Britannia Village Hall\, 65 Evelyn Street\, London\, E16 1TU\, United Kingdom
CATEGORIES:Britannia Village,Children & Families,Primary
ORGANIZER;CN="Lithuanian classes":MAILTO:klubasrasume@gmail.com
GEO:51.50419526944103;51.50419526944103, 0.025734008599947032
X-APPLE-STRUCTURED-LOCATION;VALUE=URI;X-ADDRESS=Britannia Village Hall 65 Evelyn Street London E16 1TU United Kingdom;X-APPLE-RADIUS=500;X-TITLE=65 Evelyn Street:geo:51.50419526944103, 0.025734008599947032,51.50419526944103
END:VEVENT
BEGIN:VEVENT
DTSTART;TZID=Europe/London:20260609T153000
DTEND;TZID=Europe/London:20260609T180000
DTSTAMP:20260425T165855
CREATED:20260401T175039Z
LAST-MODIFIED:20260402T124654Z
UID:10047835-1781019000-1781028000@wsfroyaldocks.org
SUMMARY:Vibrant Minds After School Club
DESCRIPTION:Vibrant Minds offers an OFSTED registered\, safe and stimulating environment where children aged 5-11 years old can play\, have fun and learn while being cared for by qualified and experienced staff. \nVibrant Minds After School Club Autumn 2025 for emailing
URL:https://wsfroyaldocks.org/event/vibrant-minds-after-school-club/2026-06-09/
LOCATION:Britannia Village Hall\, 65 Evelyn Street\, London\, E16 1TU\, United Kingdom
CATEGORIES:Britannia Village,Children & Families,Primary
GEO:51.50419526944103;51.50419526944103, 0.025734008599947032
X-APPLE-STRUCTURED-LOCATION;VALUE=URI;X-ADDRESS=Britannia Village Hall 65 Evelyn Street London E16 1TU United Kingdom;X-APPLE-RADIUS=500;X-TITLE=65 Evelyn Street:geo:51.50419526944103, 0.025734008599947032,51.50419526944103
END:VEVENT
BEGIN:VEVENT
DTSTART;TZID=Europe/London:20260610T153000
DTEND;TZID=Europe/London:20260610T180000
DTSTAMP:20260425T165855
CREATED:20260401T175039Z
LAST-MODIFIED:20260402T124654Z
UID:10047836-1781105400-1781114400@wsfroyaldocks.org
SUMMARY:Vibrant Minds After School Club
DESCRIPTION:Vibrant Minds offers an OFSTED registered\, safe and stimulating environment where children aged 5-11 years old can play\, have fun and learn while being cared for by qualified and experienced staff. \nVibrant Minds After School Club Autumn 2025 for emailing
URL:https://wsfroyaldocks.org/event/vibrant-minds-after-school-club/2026-06-10/
LOCATION:Britannia Village Hall\, 65 Evelyn Street\, London\, E16 1TU\, United Kingdom
CATEGORIES:Britannia Village,Children & Families,Primary
GEO:51.50419526944103;51.50419526944103, 0.025734008599947032
X-APPLE-STRUCTURED-LOCATION;VALUE=URI;X-ADDRESS=Britannia Village Hall 65 Evelyn Street London E16 1TU United Kingdom;X-APPLE-RADIUS=500;X-TITLE=65 Evelyn Street:geo:51.50419526944103, 0.025734008599947032,51.50419526944103
END:VEVENT
BEGIN:VEVENT
DTSTART;TZID=Europe/London:20260611T153000
DTEND;TZID=Europe/London:20260611T180000
DTSTAMP:20260425T165855
CREATED:20260401T175039Z
LAST-MODIFIED:20260402T124654Z
UID:10047837-1781191800-1781200800@wsfroyaldocks.org
SUMMARY:Vibrant Minds After School Club
DESCRIPTION:Vibrant Minds offers an OFSTED registered\, safe and stimulating environment where children aged 5-11 years old can play\, have fun and learn while being cared for by qualified and experienced staff. \nVibrant Minds After School Club Autumn 2025 for emailing
URL:https://wsfroyaldocks.org/event/vibrant-minds-after-school-club/2026-06-11/
LOCATION:Britannia Village Hall\, 65 Evelyn Street\, London\, E16 1TU\, United Kingdom
CATEGORIES:Britannia Village,Children & Families,Primary
GEO:51.50419526944103;51.50419526944103, 0.025734008599947032
X-APPLE-STRUCTURED-LOCATION;VALUE=URI;X-ADDRESS=Britannia Village Hall 65 Evelyn Street London E16 1TU United Kingdom;X-APPLE-RADIUS=500;X-TITLE=65 Evelyn Street:geo:51.50419526944103, 0.025734008599947032,51.50419526944103
END:VEVENT
BEGIN:VEVENT
DTSTART;TZID=Europe/London:20260612T153000
DTEND;TZID=Europe/London:20260612T180000
DTSTAMP:20260425T165855
CREATED:20260401T175039Z
LAST-MODIFIED:20260402T124654Z
UID:10047838-1781278200-1781287200@wsfroyaldocks.org
SUMMARY:Vibrant Minds After School Club
DESCRIPTION:Vibrant Minds offers an OFSTED registered\, safe and stimulating environment where children aged 5-11 years old can play\, have fun and learn while being cared for by qualified and experienced staff. \nVibrant Minds After School Club Autumn 2025 for emailing
URL:https://wsfroyaldocks.org/event/vibrant-minds-after-school-club/2026-06-12/
LOCATION:Britannia Village Hall\, 65 Evelyn Street\, London\, E16 1TU\, United Kingdom
CATEGORIES:Britannia Village,Children & Families,Primary
GEO:51.50419526944103;51.50419526944103, 0.025734008599947032
X-APPLE-STRUCTURED-LOCATION;VALUE=URI;X-ADDRESS=Britannia Village Hall 65 Evelyn Street London E16 1TU United Kingdom;X-APPLE-RADIUS=500;X-TITLE=65 Evelyn Street:geo:51.50419526944103, 0.025734008599947032,51.50419526944103
END:VEVENT
BEGIN:VEVENT
DTSTART;TZID=Europe/London:20260613T090000
DTEND;TZID=Europe/London:20260613T113000
DTSTAMP:20260425T165855
CREATED:20260109T223037Z
LAST-MODIFIED:20260401T185152Z
UID:10048068-1781341200-1781350200@wsfroyaldocks.org
SUMMARY:Little Kickers
DESCRIPTION:Want your little one to learn football skills in a fun environment? On Saturday and Sunday at BV Hall\, Little Kickers offers a range of different football classes tailored for different age groups. It’s all about teaching football skills in a fun\, pressure-free environment while helping to build early development skills and confidence and learning to play as a team. For ages 18 months to 7 years. Read more about prices and how to register
URL:https://wsfroyaldocks.org/event/little-kickers-2/2026-06-13/
LOCATION:Britannia Village Hall\, 65 Evelyn Street\, London\, E16 1TU\, United Kingdom
CATEGORIES:Britannia Village,Children & Families,Primary
GEO:51.50419526944103;51.50419526944103, 0.025734008599947032
X-APPLE-STRUCTURED-LOCATION;VALUE=URI;X-ADDRESS=Britannia Village Hall 65 Evelyn Street London E16 1TU United Kingdom;X-APPLE-RADIUS=500;X-TITLE=65 Evelyn Street:geo:51.50419526944103, 0.025734008599947032,51.50419526944103
END:VEVENT
BEGIN:VEVENT
DTSTART;TZID=Europe/London:20260614T090000
DTEND;TZID=Europe/London:20260614T113000
DTSTAMP:20260425T165855
CREATED:20260109T223037Z
LAST-MODIFIED:20260401T185152Z
UID:10048069-1781427600-1781436600@wsfroyaldocks.org
SUMMARY:Little Kickers
DESCRIPTION:Want your little one to learn football skills in a fun environment? On Saturday and Sunday at BV Hall\, Little Kickers offers a range of different football classes tailored for different age groups. It’s all about teaching football skills in a fun\, pressure-free environment while helping to build early development skills and confidence and learning to play as a team. For ages 18 months to 7 years. Read more about prices and how to register
URL:https://wsfroyaldocks.org/event/little-kickers-2/2026-06-14/
LOCATION:Britannia Village Hall\, 65 Evelyn Street\, London\, E16 1TU\, United Kingdom
CATEGORIES:Britannia Village,Children & Families,Primary
GEO:51.50419526944103;51.50419526944103, 0.025734008599947032
X-APPLE-STRUCTURED-LOCATION;VALUE=URI;X-ADDRESS=Britannia Village Hall 65 Evelyn Street London E16 1TU United Kingdom;X-APPLE-RADIUS=500;X-TITLE=65 Evelyn Street:geo:51.50419526944103, 0.025734008599947032,51.50419526944103
END:VEVENT
END:VCALENDAR